BEGIN:VCALENDAR
VERSION:2.0
PRODID:-//Countryside Basketry - ECPv6.15.20//NONSGML v1.0//EN
CALSCALE:GREGORIAN
METHOD:PUBLISH
X-WR-CALNAME:Countryside Basketry
X-ORIGINAL-URL:https://countrysidebasketry.com
X-WR-CALDESC:Events for Countryside Basketry
REFRESH-INTERVAL;VALUE=DURATION:PT1H
X-Robots-Tag:noindex
X-PUBLISHED-TTL:PT1H
BEGIN:VTIMEZONE
TZID:UTC
BEGIN:STANDARD
TZOFFSETFROM:+0000
TZOFFSETTO:+0000
TZNAME:UTC
DTSTART:20250101T000000
END:STANDARD
END:VTIMEZONE
BEGIN:VEVENT
DTSTART;TZID=UTC:20260509T090000
DTEND;TZID=UTC:20260509T140000
DTSTAMP:20260421T102002
CREATED:20260403T175349Z
LAST-MODIFIED:20260403T175349Z
UID:4813-1778317200-1778335200@countrysidebasketry.com
SUMMARY:Mother's Day Market
DESCRIPTION:Celebrate the season with The Copper Mug LLC! Explore vendors filled with talent\, knowledge\, and one-of-a-kind finds. It’s a day for smiles\, stories\, and great company. Check out The Copper Mug LLC Boutique shop! Countryside Basketry will be there!
URL:https://countrysidebasketry.com/events/mothers-day-market/
LOCATION:The Copper Mug\, 207 Pine Street\, Marathon\, WI\, 54448\, United States
CATEGORIES:Craft Show
ATTACH;FMTTYPE=image/png:https://countrysidebasketry.com/wp-content/uploads/2026/04/The-Copper-Mug-Event-W.png
ORGANIZER;CN="The Copper Mug":MAILTO:Brenda@thecoppermugllc.com
END:VEVENT
BEGIN:VEVENT
DTSTART;TZID=UTC:20260620T090000
DTEND;TZID=UTC:20260620T160000
DTSTAMP:20260421T102002
CREATED:20260420T040008Z
LAST-MODIFIED:20260420T040049Z
UID:4846-1781946000-1781971200@countrysidebasketry.com
SUMMARY:Maker's Market Basket
DESCRIPTION:The Maker’s Market Tote\nWhether you’re browsing the farmer’s market\, organizing your craft supplies\, or heading out for a day of adventure\, this tote is designed to carry whatever your heart desires with ease. The handles are made out of shaker tape\, which provides a soft yet sturdy grip – even when the bag is full. You will learn basic basket weaving – how to prepare your material\, measuring\, marking\, start stop weaving with a simple rim and lashing\, step by step instructions. Beginners are welcome. Please bring your own beverage\, sack lunch\, small hand towel. Hurry this one will fill fast!\nRegister with The Copper Mug
URL:https://countrysidebasketry.com/events/makers-market-basket/
LOCATION:The Copper Mug\, 207 Pine Street\, Marathon\, WI\, 54448\, United States
CATEGORIES:Class
ATTACH;FMTTYPE=image/png:https://countrysidebasketry.com/wp-content/uploads/2026/04/makers-market-toteW_hanging.png
ORGANIZER;CN="The Copper Mug":MAILTO:Brenda@thecoppermugllc.com
END:VEVENT
BEGIN:VEVENT
DTSTART;TZID=UTC:20260829T083000
DTEND;TZID=UTC:20260829T163000
DTSTAMP:20260421T102002
CREATED:20260308T031826Z
LAST-MODIFIED:20260403T175641Z
UID:4726-1787992200-1788021000@countrysidebasketry.com
SUMMARY:Autumn Meadow Basket
DESCRIPTION:Handwoven from natural reed with some accent stripes. Two swing handles will be added. Base measures 15” x 8”. You will learn basic basket weaving – how to prepare your material\, measuring\, marking\, start stop weaving with a simple rim and lashing\, step by step instructions. Beginners are welcome. Please bring your own beverage\, sack lunch\, small hand towel. \nRegistration will begin May 4\, 2026 \nPlease register with Fox Valley Technical School in Waupaca
URL:https://countrysidebasketry.com/events/autumn-meadow-basket/
LOCATION:Waupaca Fox Valley Technical\, 1979 Godfrey Drive\, Waupaca\, WI\, 54981\, United States
CATEGORIES:Class
ATTACH;FMTTYPE=image/jpeg:https://countrysidebasketry.com/wp-content/uploads/2026/03/Swing-Into-Fall-.jpg
END:VEVENT
END:VCALENDAR